BEGIN:VCALENDAR
VERSION:2.0
PRODID:-//artifica.one//Paucourt//FR
CALSCALE:GREGORIAN
METHOD:PUBLISH
BEGIN:VEVENT
SUMMARY:Les journées du patrimoine
UID:1702
SEQUENCE:0
STATUS:CONFIRMED
TRANSP:TRANSPARENT
DTSTART:20250920T120000Z
DTEND:20250921T160000Z
DTSTAMP:20231009T070216Z
CATEGORIES:Culture
LOCATION:Eglise
 
   
GEO:48.034584;2.792184
DESCRIPTION:1ère rencontre des Journées du Patrimoine à Pau
 court
URL:https://www.commune-paucourt.fr/agenda/les-journees-du-patrimoine-1702
END:VEVENT
END:VCALENDAR
